BEGIN:VCALENDAR
PRODID:-//Riksbanken//riksbanken.se//SV
VERSION:2.0
BEGIN:VEVENT
DTSTART:20210615T070000Z
DTSTAMP:20260423T223800Z
UID:abb6a490d61f45a9817bbe8c9425faad
CREATED:20260423T223800Z
DESCRIPTION:Central Bank Digital Currency: When Price and Bank Stability Collide
LAST-MODIFIED:20260423T223800Z
LOCATION:
SEQUENCE:0
STATUS:CONFIRMED
SUMMARY:Webinar with Linda Schilling, CREST Paris
TRANSP:OPAQUE
END:VEVENT
END:VCALENDAR
