BEGIN:VCALENDAR
PRODID:-//Riksbanken//riksbanken.se//SV
VERSION:2.0
BEGIN:VEVENT
DTSTART:20210622T090000Z
DTSTAMP:20260423T132421Z
UID:a3e08052e8cf4205bf96b83f29b11803
CREATED:20260423T132421Z
DESCRIPTION:Less is More': Consumer Spending and the Size of Economic Stimulus Payments
LAST-MODIFIED:20260423T132421Z
LOCATION:
SEQUENCE:0
STATUS:CONFIRMED
SUMMARY:Webinar with Paolo Surico, London Business School
TRANSP:OPAQUE
END:VEVENT
END:VCALENDAR
