BEGIN:VCALENDAR
PRODID:-//Riksbanken//riksbanken.se//SV
VERSION:2.0
BEGIN:VEVENT
DTSTART:20210623T130000Z
DTSTAMP:20260423T223800Z
UID:179d7d020d794090a65e44027d3002de
CREATED:20260423T223800Z
DESCRIPTION:A simple theory-based estimate of real natural rate of interest in open economies
LAST-MODIFIED:20260423T223800Z
LOCATION:
SEQUENCE:0
STATUS:CONFIRMED
SUMMARY:Webinar with Alexei Ilek and Guy Segal, Bank of Israel
TRANSP:OPAQUE
END:VEVENT
END:VCALENDAR
