BEGIN:VCALENDAR
PRODID:-//Riksbanken//riksbanken.se//SV
VERSION:2.0
BEGIN:VEVENT
DTSTART:20211019T140000Z
DTSTAMP:20260423T104840Z
UID:1f3a86125ebd419c9a5ce90739ae1685
CREATED:20260423T104840Z
DESCRIPTION:Demographics, Wealth, and Global Imbalances in the Twenty-First Century
LAST-MODIFIED:20260423T104840Z
LOCATION:
SEQUENCE:0
STATUS:CONFIRMED
SUMMARY:Webinar with Hannes Malmberg, University of Minnesota
TRANSP:OPAQUE
END:VEVENT
END:VCALENDAR
