BEGIN:VCALENDAR
PRODID:-//Riksbanken//riksbanken.se//SV
VERSION:2.0
BEGIN:VEVENT
DTSTART:20211026T140000Z
DTSTAMP:20260423T104849Z
UID:a29d9b3de4ca4bd9b5153874b3c1bfe7
CREATED:20260423T104849Z
DESCRIPTION:Extreme Weather and the Macroeconomy
LAST-MODIFIED:20260423T104849Z
LOCATION:
SEQUENCE:0
STATUS:CONFIRMED
SUMMARY:Webinar with Christian Matthes, Indiana University Bloomington
TRANSP:OPAQUE
END:VEVENT
END:VCALENDAR
