BEGIN:VCALENDAR
PRODID:-//Riksbanken//riksbanken.se//SV
VERSION:2.0
BEGIN:VEVENT
DTSTART:20211115T120000Z
DTSTAMP:20260423T210429Z
UID:722e5271c35d4c1d8fdbd8b3b36534bc
CREATED:20260423T210429Z
DESCRIPTION:Monetary Policy with Reserves and CBDC: Optimality, Equivalence, and Politics
LAST-MODIFIED:20260423T210429Z
LOCATION:
SEQUENCE:0
STATUS:CONFIRMED
SUMMARY:Dirk Niepelt, University of Bern
TRANSP:OPAQUE
END:VEVENT
END:VCALENDAR
