BEGIN:VCALENDAR
PRODID:-//Riksbanken//riksbanken.se//SV
VERSION:2.0
BEGIN:VEVENT
DTSTART:20211130T150000Z
DTSTAMP:20260423T210403Z
UID:c81e449d01384845a88a86543f23de27
CREATED:20260423T210403Z
DESCRIPTION:What explains the decline in r*? Rising income inequality versus demographic shifts
LAST-MODIFIED:20260423T210403Z
LOCATION:
SEQUENCE:0
STATUS:CONFIRMED
SUMMARY:Webinar with Ludwig Straub, Harvard University
TRANSP:OPAQUE
END:VEVENT
END:VCALENDAR
