BEGIN:VCALENDAR
PRODID:-//Riksbanken//riksbanken.se//SV
VERSION:2.0
BEGIN:VEVENT
DTSTART:20211214T100000Z
DTSTAMP:20260423T104849Z
UID:ab977f3b81fa44c3af9050aadebc901a
CREATED:20260423T104849Z
DESCRIPTION:Getting Rich in China: an Empirical and Structural Investigation of Wealth Mobility
LAST-MODIFIED:20260423T104849Z
LOCATION:
SEQUENCE:0
STATUS:CONFIRMED
SUMMARY:Vincenzo Quadrini, USC Marshall School of Business
TRANSP:OPAQUE
END:VEVENT
END:VCALENDAR
