BEGIN:VCALENDAR
PRODID:-//Riksbanken//riksbanken.se//SV
VERSION:2.0
BEGIN:VEVENT
DTSTART:20220208T100000Z
DTSTAMP:20260424T012632Z
UID:f7c485c3ce37400b98bd380ace4dc420
CREATED:20260424T012632Z
DESCRIPTION:The optimal quantity of CBDC in a bank-based economy
LAST-MODIFIED:20260424T012632Z
LOCATION:
SEQUENCE:0
STATUS:CONFIRMED
SUMMARY:Webinar with Manuel A. Muñoz, European Central Bank
TRANSP:OPAQUE
END:VEVENT
END:VCALENDAR
