BEGIN:VCALENDAR
PRODID:-//Riksbanken//riksbanken.se//SV
VERSION:2.0
BEGIN:VEVENT
DTSTART:20220222T080000Z
DTSTAMP:20260424T012402Z
UID:d17472f686f642d6a0ae46c380d0d7d1
CREATED:20260424T012402Z
DESCRIPTION:What Do Questions Reveal? Analyst Topic-Specific Skill and Forecast Accuracy
LAST-MODIFIED:20260424T012402Z
LOCATION:
SEQUENCE:0
STATUS:CONFIRMED
SUMMARY:Webinar with Ling Cen, The Chinese University of Hong Kong 
TRANSP:OPAQUE
END:VEVENT
END:VCALENDAR
