BEGIN:VCALENDAR
PRODID:-//Riksbanken//riksbanken.se//SV
VERSION:2.0
BEGIN:VEVENT
DTSTART:20220825T090000Z
DTSTAMP:20260426T013528Z
UID:8c1259103678415bab9bdfe59f90f350
CREATED:20260426T013528Z
DESCRIPTION:Macroprudential Policy, Credit Booms, and Banks' Systemic Risk
LAST-MODIFIED:20260426T013528Z
LOCATION:
SEQUENCE:0
STATUS:CONFIRMED
SUMMARY:Peter Karlström, CEMLA
TRANSP:OPAQUE
END:VEVENT
END:VCALENDAR
