BEGIN:VCALENDAR
PRODID:-//Riksbanken//riksbanken.se//SV
VERSION:2.0
BEGIN:VEVENT
DTSTART:20221101T100000Z
DTSTAMP:20260425T001258Z
UID:dcafc85771a14a619660adcf11bbfcd8
CREATED:20260425T001258Z
DESCRIPTION:Risky Insurance: Life-cycle Insurance Portfolio Choice with Incomplete Markets
LAST-MODIFIED:20260425T001258Z
LOCATION:
SEQUENCE:0
STATUS:CONFIRMED
SUMMARY:Ciaran Rogers, IIES Stockholm University
TRANSP:OPAQUE
END:VEVENT
END:VCALENDAR
