BEGIN:VCALENDAR
PRODID:-//Riksbanken//riksbanken.se//SV
VERSION:2.0
BEGIN:VEVENT
DTSTART:20221108T150000Z
DTSTAMP:20260425T001902Z
UID:ee40d2bfbc0a41639748762ad0813cef
CREATED:20260425T001902Z
DESCRIPTION:(Un)Conventional Monetary and Fiscal Policy
LAST-MODIFIED:20260425T001902Z
LOCATION:
SEQUENCE:0
STATUS:CONFIRMED
SUMMARY:Jing Cynthia Wu, University of Notre Dame
TRANSP:OPAQUE
END:VEVENT
END:VCALENDAR
