BEGIN:VCALENDAR
PRODID:-//Riksbanken//riksbanken.se//SV
VERSION:2.0
BEGIN:VEVENT
DTSTART:20221122T100000Z
DTSTAMP:20260425T001739Z
UID:565cd9927b904af0bfa00b0ce9ee8222
CREATED:20260425T001739Z
DESCRIPTION:The Case for Convenience: How CBDC Design Choices Impact Monetary Policy Pass-Through
LAST-MODIFIED:20260425T001739Z
LOCATION:
SEQUENCE:0
STATUS:CONFIRMED
SUMMARY:Rod Garratt, UC Santa Barbara
TRANSP:OPAQUE
END:VEVENT
END:VCALENDAR
