BEGIN:VCALENDAR
PRODID:-//Riksbanken//riksbanken.se//SV
VERSION:2.0
BEGIN:VEVENT
DTSTART:20221129T100000Z
DTSTAMP:20260425T001457Z
UID:9fa38cf6c8bb4dab963e054c4797d00a
CREATED:20260425T001457Z
DESCRIPTION:Fiscal Policy and the Monetary Transmission Mechanism
LAST-MODIFIED:20260425T001457Z
LOCATION:
SEQUENCE:0
STATUS:CONFIRMED
SUMMARY:Nicolas Caramp, University of California, Davis
TRANSP:OPAQUE
END:VEVENT
END:VCALENDAR
