BEGIN:VCALENDAR
PRODID:-//Riksbanken//riksbanken.se//SV
VERSION:2.0
BEGIN:VEVENT
DTSTART:20230314T100000Z
DTSTAMP:20260425T141800Z
UID:48a60a76bab04440a84e4fe2e0f13392
CREATED:20260425T141800Z
DESCRIPTION:Perceptions about Monetary Policy
LAST-MODIFIED:20260425T141800Z
LOCATION:
SEQUENCE:0
STATUS:CONFIRMED
SUMMARY:Michael Bauer, University of Hamburg
TRANSP:OPAQUE
END:VEVENT
END:VCALENDAR
