BEGIN:VCALENDAR
PRODID:-//Riksbanken//riksbanken.se//SV
VERSION:2.0
BEGIN:VEVENT
DTSTART:20230320T100000Z
DTSTAMP:20260425T142122Z
UID:adc4b539d36649158276a106719c78bd
CREATED:20260425T142122Z
DESCRIPTION:Identifying monetary policy shocks: a natural language approach
LAST-MODIFIED:20260425T142122Z
LOCATION:
SEQUENCE:0
STATUS:CONFIRMED
SUMMARY:Thomas Drechsel,	University of Maryland
TRANSP:OPAQUE
END:VEVENT
END:VCALENDAR
