BEGIN:VCALENDAR
PRODID:-//Riksbanken//riksbanken.se//SV
VERSION:2.0
BEGIN:VEVENT
DTSTART:20230420T090000Z
DTSTAMP:20260424T073450Z
UID:0d8b4bb32ba84829b4a1c25659dbea28
CREATED:20260424T073450Z
DESCRIPTION:Evaluating Policy Institutions --150 Years of US Monetary Policy
LAST-MODIFIED:20260424T073450Z
LOCATION:
SEQUENCE:0
STATUS:CONFIRMED
SUMMARY:Regis Barnichon, Federal Reserve Bank of San Francisco
TRANSP:OPAQUE
END:VEVENT
END:VCALENDAR
