BEGIN:VCALENDAR
PRODID:-//Riksbanken//riksbanken.se//SV
VERSION:2.0
BEGIN:VEVENT
DTSTART:20230424T090000Z
DTSTAMP:20260424T073231Z
UID:551f884cb7054692af3ec9514affceee
CREATED:20260424T073231Z
DESCRIPTION:Firms’ greenhouse emissions and monetary policy
LAST-MODIFIED:20260424T073231Z
LOCATION:
SEQUENCE:0
STATUS:CONFIRMED
SUMMARY:Olena Havrylchyk, University Paris 1 Panthéon-Sorbonne 
TRANSP:OPAQUE
END:VEVENT
END:VCALENDAR
