BEGIN:VCALENDAR
PRODID:-//Riksbanken//riksbanken.se//SV
VERSION:2.0
BEGIN:VEVENT
DTSTART:20230427T090000Z
DTSTAMP:20260424T073455Z
UID:8309b3b6093a44449a7b30f5bd4ad27e
CREATED:20260424T073455Z
DESCRIPTION:Distributional effects of inflation in the euro area
LAST-MODIFIED:20260424T073455Z
LOCATION:
SEQUENCE:0
STATUS:CONFIRMED
SUMMARY:Oreste Tristani , ECB
TRANSP:OPAQUE
END:VEVENT
END:VCALENDAR
