BEGIN:VCALENDAR
PRODID:-//Riksbanken//riksbanken.se//SV
VERSION:2.0
BEGIN:VEVENT
DTSTART:20230614T110000Z
DTSTAMP:20260423T223907Z
UID:cdc38c1f4db0456b86813d29e40b4b59
CREATED:20260423T223907Z
DESCRIPTION:Equilibrium in Two-Sided Markets for Payments: Consumer Awareness and the Welfare Cost of the Interchange Fee
LAST-MODIFIED:20260423T223907Z
LOCATION:
SEQUENCE:0
STATUS:CONFIRMED
SUMMARY:Kim Huynh, Bank of Canada
TRANSP:OPAQUE
END:VEVENT
END:VCALENDAR
