BEGIN:VCALENDAR
PRODID:-//Riksbanken//riksbanken.se//SV
VERSION:2.0
BEGIN:VEVENT
DTSTART:20230619T090000Z
DTSTAMP:20260423T223932Z
UID:ac0d29ea90d442e9bc1435262e297c01
CREATED:20260423T223932Z
DESCRIPTION:Price Setting when Expectations are Unanchored
LAST-MODIFIED:20260423T223932Z
LOCATION:
SEQUENCE:0
STATUS:CONFIRMED
SUMMARY:Carlos Carvalho, Kapitalo Investment
TRANSP:OPAQUE
END:VEVENT
END:VCALENDAR
