BEGIN:VCALENDAR
PRODID:-//Riksbanken//riksbanken.se//SV
VERSION:2.0
BEGIN:VEVENT
DTSTART:20230627T140000Z
DTSTAMP:20260423T224029Z
UID:bfafe4a422cd4bc7866b214f9c628521
CREATED:20260423T224029Z
DESCRIPTION:Cash for Transactions or Store-of-Value? A comparative study on Sweden and peer countries
LAST-MODIFIED:20260423T224029Z
LOCATION:
SEQUENCE:0
STATUS:CONFIRMED
SUMMARY: Carl-Andreas Claussen, Sveriges Riksbank
TRANSP:OPAQUE
END:VEVENT
END:VCALENDAR
