BEGIN:VCALENDAR
PRODID:-//Riksbanken//riksbanken.se//SV
VERSION:2.0
BEGIN:VEVENT
DTSTART:20230829T090000Z
DTSTAMP:20260423T210441Z
UID:843f63c1c7474525aa33c415cb30e70a
CREATED:20260423T210441Z
DESCRIPTION:Serial Entrepreneurship in China
LAST-MODIFIED:20260423T210441Z
LOCATION:
SEQUENCE:0
STATUS:CONFIRMED
SUMMARY:Kjetil Storesletten, University of Minnesota
TRANSP:OPAQUE
END:VEVENT
END:VCALENDAR
