BEGIN:VCALENDAR
PRODID:-//Riksbanken//riksbanken.se//SV
VERSION:2.0
BEGIN:VEVENT
DTSTART:20230919T090000Z
DTSTAMP:20260423T170224Z
UID:8c222a63a5f5495fbf3c3ab180a5749c
CREATED:20260423T170224Z
DESCRIPTION:Optimal Timing of Policy Interventions in Troubled Banks
LAST-MODIFIED:20260423T170224Z
LOCATION:
SEQUENCE:0
STATUS:CONFIRMED
SUMMARY:Phillip Koenig, The Bundesbank
TRANSP:OPAQUE
END:VEVENT
END:VCALENDAR
