BEGIN:VCALENDAR
PRODID:-//Riksbanken//riksbanken.se//SV
VERSION:2.0
BEGIN:VEVENT
DTSTART:20230926T090000Z
DTSTAMP:20260423T170224Z
UID:a1d10494c32b4d3c9958ac0e74ef6162
CREATED:20260423T170224Z
DESCRIPTION:Estimating HANK for Central Banks
LAST-MODIFIED:20260423T170224Z
LOCATION:
SEQUENCE:0
STATUS:CONFIRMED
SUMMARY:Marco del Negro, Federal Reserve Bank of New York
TRANSP:OPAQUE
END:VEVENT
END:VCALENDAR
