BEGIN:VCALENDAR
PRODID:-//Riksbanken//riksbanken.se//SV
VERSION:2.0
BEGIN:VEVENT
DTSTART:20231106T100000Z
DTSTAMP:20260423T133641Z
UID:42b3df8b049c4c1183d88c423745579c
CREATED:20260423T133641Z
DESCRIPTION:Endogenous Production Networks under Supply Chain Uncertainty
LAST-MODIFIED:20260423T133641Z
LOCATION:
SEQUENCE:0
STATUS:CONFIRMED
SUMMARY:Kristoffer Nimark, Cornell University 
TRANSP:OPAQUE
END:VEVENT
END:VCALENDAR
