BEGIN:VCALENDAR
PRODID:-//Riksbanken//riksbanken.se//SV
VERSION:2.0
BEGIN:VEVENT
DTSTART:20231107T100000Z
DTSTAMP:20260423T133641Z
UID:a7699d3b8d504dc7887c2d84405491a0
CREATED:20260423T133641Z
DESCRIPTION:The aggregate and distributional implications of credit shocks on housing and rental markets
LAST-MODIFIED:20260423T133641Z
LOCATION:
SEQUENCE:0
STATUS:CONFIRMED
SUMMARY:Gonzalo Paz-Pardo, ECB
TRANSP:OPAQUE
END:VEVENT
END:VCALENDAR
