BEGIN:VCALENDAR
PRODID:-//Riksbanken//riksbanken.se//SV
VERSION:2.0
BEGIN:VEVENT
DTSTART:20231109T100000Z
DTSTAMP:20260423T133605Z
UID:965deccdd0c54ad8ae1c10a9ebb37317
CREATED:20260423T133605Z
DESCRIPTION:Corporate Taxes and Retail Prices
LAST-MODIFIED:20260423T133605Z
LOCATION:
SEQUENCE:0
STATUS:CONFIRMED
SUMMARY:Scott Baker, Northwestern
TRANSP:OPAQUE
END:VEVENT
END:VCALENDAR
