BEGIN:VCALENDAR
PRODID:-//Riksbanken//riksbanken.se//SV
VERSION:2.0
BEGIN:VEVENT
DTSTART:20231121T100000Z
DTSTAMP:20260423T133558Z
UID:cf2244046b6c4e72af3fc10ff2af1b0a
CREATED:20260423T133558Z
DESCRIPTION:Disclosure Regulation, Intangible Capital and the Disappearance of Public Firms
LAST-MODIFIED:20260423T133558Z
LOCATION:
SEQUENCE:0
STATUS:CONFIRMED
SUMMARY:Sara Casella, IIES
TRANSP:OPAQUE
END:VEVENT
END:VCALENDAR
