BEGIN:VCALENDAR
PRODID:-//Riksbanken//riksbanken.se//SV
VERSION:2.0
BEGIN:VEVENT
DTSTART:20231127T100000Z
DTSTAMP:20260423T133640Z
UID:ef968cf0de65475d8b74a5c16f36ee05
CREATED:20260423T133640Z
DESCRIPTION:Business as Usual: Bank Climate Commitments, Lending, and Engagement
LAST-MODIFIED:20260423T133640Z
LOCATION:
SEQUENCE:0
STATUS:CONFIRMED
SUMMARY:Parinitha Sastry, Columbia Business School
TRANSP:OPAQUE
END:VEVENT
END:VCALENDAR
