BEGIN:VCALENDAR
PRODID:-//Riksbanken//riksbanken.se//SV
VERSION:2.0
BEGIN:VEVENT
DTSTART:20240409T090000Z
DTSTAMP:20260423T223932Z
UID:28865e8e57704abaac100cf5a9e1ed0b
CREATED:20260423T223932Z
DESCRIPTION:Is there a forward guidance puzzle?
LAST-MODIFIED:20260423T223932Z
LOCATION:
SEQUENCE:0
STATUS:CONFIRMED
SUMMARY:Leonardo Melosi, University of Warwick
TRANSP:OPAQUE
END:VEVENT
END:VCALENDAR
