BEGIN:VCALENDAR
PRODID:-//Riksbanken//riksbanken.se//SV
VERSION:2.0
BEGIN:VEVENT
DTSTART:20240416T090000Z
DTSTAMP:20260423T223835Z
UID:c9a87a2a95894cc48c8061363bfac982
CREATED:20260423T223835Z
DESCRIPTION:“Measuring and Explaining the CDS-Bond Basis Term-Structure Shape and Dynamics.”
LAST-MODIFIED:20260423T223835Z
LOCATION:
SEQUENCE:0
STATUS:CONFIRMED
SUMMARY:André Lucas, Vrije Universiteit Amsterdam
TRANSP:OPAQUE
END:VEVENT
END:VCALENDAR
