BEGIN:VCALENDAR
PRODID:-//Riksbanken//riksbanken.se//SV
VERSION:2.0
BEGIN:VEVENT
DTSTART:20240423T090000Z
DTSTAMP:20260423T223835Z
UID:09a5b8b2f30c4630a9dcef7b5f354b1c
CREATED:20260423T223835Z
DESCRIPTION:The Staying Power of Face-to-face in the Global Venture Capital Market
LAST-MODIFIED:20260423T223835Z
LOCATION:
SEQUENCE:0
STATUS:CONFIRMED
SUMMARY:Alberto Zazzaro, University of Naples - Federico II
TRANSP:OPAQUE
END:VEVENT
END:VCALENDAR
