BEGIN:VCALENDAR
PRODID:-//Riksbanken//riksbanken.se//SV
VERSION:2.0
BEGIN:VEVENT
DTSTART:20240507T090000Z
DTSTAMP:20260423T210532Z
UID:c408fd1ad7454c608398eeb4b4eb4c0d
CREATED:20260423T210532Z
DESCRIPTION:Market-Based Green Firms
LAST-MODIFIED:20260423T210532Z
LOCATION:
SEQUENCE:0
STATUS:CONFIRMED
SUMMARY:Oliver Rehbein, Wien University
TRANSP:OPAQUE
END:VEVENT
END:VCALENDAR
