BEGIN:VCALENDAR
PRODID:-//Riksbanken//riksbanken.se//SV
VERSION:2.0
BEGIN:VEVENT
DTSTART:20240516T090000Z
DTSTAMP:20260423T210531Z
UID:0992fa3c0114465a896c6ead10f9b1a6
CREATED:20260423T210531Z
DESCRIPTION:What Do 12 Billion Card Transactions Say About House Prices and Consumption?
LAST-MODIFIED:20260423T210531Z
LOCATION:
SEQUENCE:0
STATUS:CONFIRMED
SUMMARY:Kasper Roszbach, Norges Bank
TRANSP:OPAQUE
END:VEVENT
END:VCALENDAR
