BEGIN:VCALENDAR
PRODID:-//Riksbanken//riksbanken.se//SV
VERSION:2.0
BEGIN:VEVENT
DTSTART:20240528T090000Z
DTSTAMP:20260423T210531Z
UID:daf5f5e1910742f78ece4fb23730a805
CREATED:20260423T210531Z
DESCRIPTION:COMPETITION AND THE PHILLIPS CURVE
LAST-MODIFIED:20260423T210531Z
LOCATION:
SEQUENCE:0
STATUS:CONFIRMED
SUMMARY:Ippei Fujiwara,  Keio University
TRANSP:OPAQUE
END:VEVENT
END:VCALENDAR
