BEGIN:VCALENDAR
PRODID:-//Riksbanken//riksbanken.se//SV
VERSION:2.0
BEGIN:VEVENT
DTSTART:20240530T090000Z
DTSTAMP:20260423T210532Z
UID:2d83414d56ba41168e469fb08f3d03c7
CREATED:20260423T210532Z
DESCRIPTION:An unconventional FX tail risk story
LAST-MODIFIED:20260423T210532Z
LOCATION:
SEQUENCE:0
STATUS:CONFIRMED
SUMMARY:Eddie Gerba, University of Valencia
TRANSP:OPAQUE
END:VEVENT
END:VCALENDAR
