BEGIN:VCALENDAR
PRODID:-//Riksbanken//riksbanken.se//SV
VERSION:2.0
BEGIN:VEVENT
DTSTART:20241001T090000Z
DTSTAMP:20260423T223907Z
UID:2fd64a0dc94046d18320b2b8ec58b467
CREATED:20260423T223907Z
DESCRIPTION:Revolving Credit to SMEs: The Role of Business Credit Cards
LAST-MODIFIED:20260423T223907Z
LOCATION:
SEQUENCE:0
STATUS:CONFIRMED
SUMMARY:Matteo Benetton, Berkeley
TRANSP:OPAQUE
END:VEVENT
END:VCALENDAR
