BEGIN:VCALENDAR
PRODID:-//Riksbanken//riksbanken.se//SV
VERSION:2.0
BEGIN:VEVENT
DTSTART:20241016T090000Z
DTSTAMP:20260423T223938Z
UID:406a58b00629426e82ad8c0fb9c18683
CREATED:20260423T223938Z
DESCRIPTION:Welfare and Spending Effects of Consumption Stimulus Policies
LAST-MODIFIED:20260423T223938Z
LOCATION:
SEQUENCE:0
STATUS:CONFIRMED
SUMMARY:Chris Carroll, Johns Hopkins University
TRANSP:OPAQUE
END:VEVENT
END:VCALENDAR
