BEGIN:VCALENDAR
PRODID:-//Riksbanken//riksbanken.se//SV
VERSION:2.0
BEGIN:VEVENT
DTSTART:20241022T090000Z
DTSTAMP:20260423T224100Z
UID:04c1e40db0fe47289feeae2db93cea02
CREATED:20260423T224100Z
DESCRIPTION:Time out for trading
LAST-MODIFIED:20260423T224100Z
LOCATION:
SEQUENCE:0
STATUS:CONFIRMED
SUMMARY:Steffen Andersen, Danmarks Nationalbank
TRANSP:OPAQUE
END:VEVENT
END:VCALENDAR
