BEGIN:VCALENDAR
PRODID:-//Riksbanken//riksbanken.se//SV
VERSION:2.0
BEGIN:VEVENT
DTSTART:20250311T100000Z
DTSTAMP:20260426T035509Z
UID:3f13b0afd0134e20af9bf7141956d83f
CREATED:20260426T035509Z
DESCRIPTION:The Fiscal Cost of Quantitative Easing
LAST-MODIFIED:20260426T035509Z
LOCATION:
SEQUENCE:0
STATUS:CONFIRMED
SUMMARY:Adrien d’Avernas, Stockholm School of Economics
TRANSP:OPAQUE
END:VEVENT
END:VCALENDAR
