BEGIN:VCALENDAR
PRODID:-//Riksbanken//riksbanken.se//SV
VERSION:2.0
BEGIN:VEVENT
DTSTART:20250318T100000Z
DTSTAMP:20260426T035335Z
UID:b588d350c0db42acb9fc3c35bc466dd5
CREATED:20260426T035335Z
DESCRIPTION:Credit Allocation, Collateral, and Economic Development
LAST-MODIFIED:20260426T035335Z
LOCATION:
SEQUENCE:0
STATUS:CONFIRMED
SUMMARY:Emil Verner, MIT
TRANSP:OPAQUE
END:VEVENT
END:VCALENDAR
