BEGIN:VCALENDAR
PRODID:-//Riksbanken//riksbanken.se//SV
VERSION:2.0
BEGIN:VEVENT
DTSTART:20250331T090000Z
DTSTAMP:20260426T035253Z
UID:b3bd082bff8741ab8e10f11fe4429187
CREATED:20260426T035253Z
DESCRIPTION:Why gradual and predictable? Bank lending during the sharpest quantitative tightening ever
LAST-MODIFIED:20260426T035253Z
LOCATION:
SEQUENCE:0
STATUS:CONFIRMED
SUMMARY:Lorenzo Burlon, ECB
TRANSP:OPAQUE
END:VEVENT
END:VCALENDAR
