BEGIN:VCALENDAR
PRODID:-//Riksbanken//riksbanken.se//SV
VERSION:2.0
BEGIN:VEVENT
DTSTART:20250401T090000Z
DTSTAMP:20260425T142235Z
UID:8c12adacb8374de4bd017a89e29a02e1
CREATED:20260425T142235Z
DESCRIPTION:The Signaling Effects of Fiscal Announcements
LAST-MODIFIED:20260425T142235Z
LOCATION:
SEQUENCE:0
STATUS:CONFIRMED
SUMMARY:Francesco Zanetti, University of Oxford
TRANSP:OPAQUE
END:VEVENT
END:VCALENDAR
