BEGIN:VCALENDAR
PRODID:-//Riksbanken//riksbanken.se//SV
VERSION:2.0
BEGIN:VEVENT
DTSTART:20250408T090000Z
DTSTAMP:20260425T141601Z
UID:da3c4212eb254dcaa97c3a7835cef145
CREATED:20260425T141601Z
DESCRIPTION:Deciphering Monetary Policy Shocks
LAST-MODIFIED:20260425T141601Z
LOCATION:
SEQUENCE:0
STATUS:CONFIRMED
SUMMARY:Christian Wagner,	WU Vienna
TRANSP:OPAQUE
END:VEVENT
END:VCALENDAR
