BEGIN:VCALENDAR
PRODID:-//Riksbanken//riksbanken.se//SV
VERSION:2.0
BEGIN:VEVENT
DTSTART:20250410T090000Z
DTSTAMP:20260425T141445Z
UID:614d6c18e0bf4500b4672da5cd130869
CREATED:20260425T141445Z
DESCRIPTION:Currency Wars and Trade
LAST-MODIFIED:20260425T141445Z
LOCATION:
SEQUENCE:0
STATUS:CONFIRMED
SUMMARY:Kris Mitchener, Santa Clara University
TRANSP:OPAQUE
END:VEVENT
END:VCALENDAR
