BEGIN:VCALENDAR
PRODID:-//Riksbanken//riksbanken.se//SV
VERSION:2.0
BEGIN:VEVENT
DTSTART:20250415T090000Z
DTSTAMP:20260425T141626Z
UID:35ce89fdeaf740a3acb31e388b3ad325
CREATED:20260425T141626Z
DESCRIPTION:Money-Creating Commercial Banks and the Market Price of Time
LAST-MODIFIED:20260425T141626Z
LOCATION:
SEQUENCE:0
STATUS:CONFIRMED
SUMMARY:My Hedlin, University of Bern
TRANSP:OPAQUE
END:VEVENT
END:VCALENDAR
