BEGIN:VCALENDAR
PRODID:-//Riksbanken//riksbanken.se//SV
VERSION:2.0
BEGIN:VEVENT
DTSTART:20250428T130000Z
DTSTAMP:20260425T141838Z
UID:70920c46222647808d1eede4a7d3d621
CREATED:20260425T141838Z
DESCRIPTION:TBA
LAST-MODIFIED:20260425T141838Z
LOCATION:
SEQUENCE:0
STATUS:CONFIRMED
SUMMARY:Ricardo Reis, London School of Economics
TRANSP:OPAQUE
END:VEVENT
END:VCALENDAR
