BEGIN:VCALENDAR
PRODID:-//Riksbanken//riksbanken.se//SV
VERSION:2.0
BEGIN:VEVENT
DTSTART:20250522T130000Z
DTSTAMP:20260426T013644Z
UID:7eff79e1219d426494d2c18a380f69a2
CREATED:20260426T013644Z
DESCRIPTION:Dynamics of the Long Term Housing Yield: Evidence from Natural Experiments
LAST-MODIFIED:20260426T013644Z
LOCATION:
SEQUENCE:0
STATUS:CONFIRMED
SUMMARY:Atif Mian, Princeton University 
TRANSP:OPAQUE
END:VEVENT
END:VCALENDAR
